BEGIN:VCALENDAR
VERSION:2.0
PRODID:-//데일리홍콩 - ECPv6.15.20//NONSGML v1.0//EN
CALSCALE:GREGORIAN
METHOD:PUBLISH
X-ORIGINAL-URL:https://dailyhongkong.com
X-WR-CALDESC:데일리홍콩 이벤트
REFRESH-INTERVAL;VALUE=DURATION:PT1H
X-Robots-Tag:noindex
X-PUBLISHED-TTL:PT1H
BEGIN:VTIMEZONE
TZID:Asia/Hong_Kong
BEGIN:STANDARD
TZOFFSETFROM:+0800
TZOFFSETTO:+0800
TZNAME:HKT
DTSTART:20240101T000000
END:STANDARD
END:VTIMEZONE
BEGIN:VEVENT
DTSTART;TZID=Asia/Hong_Kong:20250410T080000
DTEND;TZID=Asia/Hong_Kong:20250421T170000
DTSTAMP:20260419T225952
CREATED:20250319T144640Z
LAST-MODIFIED:20250319T144643Z
UID:41492-1744272000-1745254800@dailyhongkong.com
SUMMARY:제49회 홍콩 국제 영화제
DESCRIPTION:제49회 홍콩 국제 영화제(Hong Kong International Film Festival)가 4월 10일에 개막하여 69개국 및 지역에서 출품된 약 200편의 영화가 선보일 예정이다. \n\n\n\n이번 홍콩 국제 영화제에는 세계 최초로 공개되는 작품 6편\, 국제 최초로 공개되는 작품 2편\, 아시아 최초로 공개되는 작품 52편을 포함해 300편 이상의 상영작이 예정되어 있다. \n\n\n\n한국 영화는 2편이 상영된다. \n\n\n\n박이웅 감독의 <아침바다 갈매기는>(The Land of Morning Calm\, 2024)과 홍상수 감독의 <수유천>(By the Stream\, 2024)가 상영될 예정이다. \n\n\n\n한편 제49회 홍콩 국제 영화제의 전체 프로그램 및 상영 일정은 홍콩 국제 영화제 공식 웹사이트에서 확인할 수 있으며\, 티켓은 3월 28일 오전 10시부터 모든 URBTIX 판매처를 통해 구매할 수 있다.
URL:https://dailyhongkong.com/event/the-49th-hong-kong-international-film-festival/
CATEGORIES:영화제
ATTACH;FMTTYPE=image/jpeg:https://dailyhongkong.com/wp-content/uploads/2025/03/hkiff49.jpg
END:VEVENT
BEGIN:VEVENT
DTSTART;TZID=Asia/Hong_Kong:20250413T093000
DTEND;TZID=Asia/Hong_Kong:20250416T170000
DTSTAMP:20260419T225952
CREATED:20250403T150051Z
LAST-MODIFIED:20250403T150054Z
UID:41780-1744536600-1744822800@dailyhongkong.com
SUMMARY:홍콩 전자 박람회 (춘계) 2025
DESCRIPTION:홍콩 전자 박람회(Hong Kong Electronics Fair)는 홍콩무역발전국(Hong Kong Trade Development Council-HKTDC)에서 주최하는 아시아 최대 규모의 IT 전문 박람회이다. \n\n\n\n지난 2004년부터 시작되어 해마다 두 차례(춘계:4월\, 추계:10월) 열리고 있다. \n\n\n\n글로벌 전자 업계의 최신 트렌드와 혁신 기술을 선보이고 B2B 네트워킹 기회를 제공하며 가정용·상업용 전자제품\, 스마트 테크\, 전자 부품 등을 중심으로 전시된다.
URL:https://dailyhongkong.com/event/hong-kong-electronics-fair-spring-edition-2025/
LOCATION:홍콩 컨벤션 센터\, 1 Expo Dr\, Wan Chai\, Hong Kong
CATEGORIES:박람회
ATTACH;FMTTYPE=image/jpeg:https://dailyhongkong.com/wp-content/uploads/2025/04/hong-kong-electronics-fair-2025-spring-edition.jpg
END:VEVENT
END:VCALENDAR