BEGIN:VCALENDAR
VERSION:2.0
PRODID:-//데일리홍콩 - ECPv6.15.20//NONSGML v1.0//EN
CALSCALE:GREGORIAN
METHOD:PUBLISH
X-ORIGINAL-URL:https://dailyhongkong.com
X-WR-CALDESC:데일리홍콩 이벤트
REFRESH-INTERVAL;VALUE=DURATION:PT1H
X-Robots-Tag:noindex
X-PUBLISHED-TTL:PT1H
BEGIN:VTIMEZONE
TZID:Asia/Hong_Kong
BEGIN:STANDARD
TZOFFSETFROM:+0800
TZOFFSETTO:+0800
TZNAME:HKT
DTSTART:20240101T000000
END:STANDARD
END:VTIMEZONE
BEGIN:VEVENT
DTSTART;TZID=Asia/Hong_Kong:20250328T080000
DTEND;TZID=Asia/Hong_Kong:20250330T170000
DTSTAMP:20260419T211658
CREATED:20240815T134651Z
LAST-MODIFIED:20240815T134655Z
UID:36674-1743148800-1743354000@dailyhongkong.com
SUMMARY:홍콩 세븐스 2025
DESCRIPTION:국제 럭비 평의회에서 주관하는 IRB 세븐스 월드 시리즈의 7인제 럭비 대회 홍콩 세븐스 (Hong Kong Sevens\, 중국어: 香港國際七人欖球賽) \n\n\n\nHong Kong China Rugby (HKCR) announced Thursday that the 2025 Cathay/HSBC Hong Kong Sevens will be held from March 28 to 30. \n\n\n\n“The Hong Kong Sevens is a fan-favorite on the HSBC SVNS Series\,” HKCR Chairman Chris Brooke said. “Thanks to World Rugby for yet again confirming Hong Kong as an integral part of the SVNS success story.” \n\n\n\nHKCR Chief Executive Officer James Farndon mentioned that the early announcement of the tournament provided good lead time for international fans to plan their trips and book flights and accommodation\, as around one-third of the ticket holders for the event last year came from overseas. \n\n\n\n“It is our wish to stage the 2025 Sevens at Kai Tak Sports Park (KTSP)\,” Farndon stated when discussing the venue arrangements for the 2025 event. “We are working very closely with the KTSP team to make that happen.” \n\n\n\nAdditional information on the coming Hong Kong Sevens will be released in the coming months\, and tickets will be available for purchase in early November. \n\n\n\n참고: Hong Kong Sevens to be held from March 28 to 30 \n\n\n\nTBU
URL:https://dailyhongkong.com/event/hong-kong-sevens-2025/
CATEGORIES:스포츠
ATTACH;FMTTYPE=image/png:https://dailyhongkong.com/wp-content/uploads/2024/08/rugby-play-with-7-players-each-in-both-team.png
END:VEVENT
BEGIN:VEVENT
DTSTART;TZID=Asia/Hong_Kong:20250328T080000
DTEND;TZID=Asia/Hong_Kong:20250330T170000
DTSTAMP:20260419T211658
CREATED:20241228T144451Z
LAST-MODIFIED:20241228T144454Z
UID:40131-1743148800-1743354000@dailyhongkong.com
SUMMARY:아트 바젤 홍콩 2025
DESCRIPTION:스위스의 바젤에서 시작된 아트 바젤은 홍콩\, 마이애미 등 전 세계 주요 도시에서 열리며\, 아트 바젤 홍콩은 아시아의 현대 미술을 국제적으로 소개하는 중요한 연례 국제 미술 행사이다.
URL:https://dailyhongkong.com/event/art-basel-hong-kong-2025/
LOCATION:홍콩 컨벤션 센터\, 1 Expo Dr\, Wan Chai\, Hong Kong
CATEGORIES:전시회
ATTACH;FMTTYPE=image/jpeg:https://dailyhongkong.com/wp-content/uploads/2024/12/art-basel-hong-kong.jpg
END:VEVENT
END:VCALENDAR