BEGIN:VCALENDAR
VERSION:2.0
PRODID:-//데일리홍콩 - ECPv6.15.20//NONSGML v1.0//EN
CALSCALE:GREGORIAN
METHOD:PUBLISH
X-ORIGINAL-URL:https://dailyhongkong.com
X-WR-CALDESC:데일리홍콩 이벤트
REFRESH-INTERVAL;VALUE=DURATION:PT1H
X-Robots-Tag:noindex
X-PUBLISHED-TTL:PT1H
BEGIN:VTIMEZONE
TZID:Asia/Hong_Kong
BEGIN:STANDARD
TZOFFSETFROM:+0800
TZOFFSETTO:+0800
TZNAME:HKT
DTSTART:20240101T000000
END:STANDARD
END:VTIMEZONE
BEGIN:VEVENT
DTSTART;TZID=Asia/Hong_Kong:20250325T073000
DTEND;TZID=Asia/Hong_Kong:20250327T170000
DTSTAMP:20260419T225545
CREATED:20250317T055041Z
LAST-MODIFIED:20250317T055044Z
UID:41450-1742887800-1743094800@dailyhongkong.com
SUMMARY:HSBC 글로벌 인베스트먼트 서밋 2025
DESCRIPTION:국제 금융 투자 업계의 친목 행사 HSBC 글로벌 인베스트먼트 서밋이 올해 2025년 3월 25일부터 27일까지 콘래드 홍콩 호텔에서 2박 3일간 진행된다. \n\n\n\n자세한 정보 업데이트 예정 >>  \n\n\n\n\nsource: https://www.hsbcscheduling.com/eventweb.php?pid=PGY3Zzo3ZD8zMzZmZzc\n\n\n\nhttps://www.gbm.hsbc.com/en-gb/campaigns/global-investment-summit\n\n\n\n\nAt a time of profound change and often competing priorities\, the HSBC Global Investment Summit (GIS) allows for an open and frank exchange of thoughts and ideas between world-class experts\, political leaders\, institutional investors and top decision-makers. Our speakers offer their unique insights\, perspectives and knowledge on a wide range of critical topics affecting the global economy. \n\n\n\nBuilding on the success of our inaugural Global Investment Summit\, we are excited to announce the second Global Investment Summit will take place on 25 to 27 March 2025. \n\n\n\nStay tuned for expert insights and thought provoking dialogue on pressing opportunities and challenges with experts and leaders from around the world. \n\n\n\nOn 27 March 2025\, we will host “The Private Wealth Sessions“\, an exclusive programme tailored for individual investors\, entrepreneurs\, business owners and senior executives. This event is designed for those looking to explore emerging investment markets\, understand the associated challenges\, and discover disruptive technologies that are reshaping the world.
URL:https://dailyhongkong.com/event/hsbc-global-investment-summit-2025/
LOCATION:Conrad Hong Kong\, 88 Queensway\, Admiralty\, 999977\, Hong Kong
CATEGORIES:컨퍼런스
ATTACH;FMTTYPE=image/jpeg:https://dailyhongkong.com/wp-content/uploads/2025/03/hsbc-global-investment-summit.jpg
END:VEVENT
END:VCALENDAR