BEGIN:VCALENDAR
VERSION:2.0
PRODID:-//데일리홍콩 - ECPv6.15.20//NONSGML v1.0//EN
CALSCALE:GREGORIAN
METHOD:PUBLISH
X-ORIGINAL-URL:https://dailyhongkong.com
X-WR-CALDESC:데일리홍콩 이벤트
REFRESH-INTERVAL;VALUE=DURATION:PT1H
X-Robots-Tag:noindex
X-PUBLISHED-TTL:PT1H
BEGIN:VTIMEZONE
TZID:Asia/Hong_Kong
BEGIN:STANDARD
TZOFFSETFROM:+0800
TZOFFSETTO:+0800
TZNAME:HKT
DTSTART:20240101T000000
END:STANDARD
END:VTIMEZONE
BEGIN:VEVENT
DTSTART;TZID=Asia/Hong_Kong:20250206T120000
DTEND;TZID=Asia/Hong_Kong:20250209T210000
DTSTAMP:20260425T205110
CREATED:20241228T143206Z
LAST-MODIFIED:20241228T143209Z
UID:40125-1738843200-1739134800@dailyhongkong.com
SUMMARY:홍콩 애완동물 전시회 2025
DESCRIPTION:홍콩 애완동물 페스티벌은 세계적으로 유명한 애완동물 식품 및 용품 브랜드가 홍콩에서 가장 많이 모이는 행사이다. 또한 강아지와 고양이를 포함한 다양한 애완동물 퍼레이드도 열린다. \n\n\n\nTo be updated
URL:https://dailyhongkong.com/event/hong-kong-pet-show-2025/
LOCATION:홍콩 컨벤션 센터\, 1 Expo Dr\, Wan Chai\, Hong Kong
CATEGORIES:전시회
ATTACH;FMTTYPE=image/jpeg:https://dailyhongkong.com/wp-content/uploads/2024/12/hong-kong-pet-show-2025.jpg
END:VEVENT
END:VCALENDAR