BEGIN:VCALENDAR
VERSION:2.0
PRODID:-//데일리홍콩 - ECPv6.15.20//NONSGML v1.0//EN
CALSCALE:GREGORIAN
METHOD:PUBLISH
X-WR-CALNAME:데일리홍콩
X-ORIGINAL-URL:https://dailyhongkong.com
X-WR-CALDESC:데일리홍콩 이벤트
REFRESH-INTERVAL;VALUE=DURATION:PT1H
X-Robots-Tag:noindex
X-PUBLISHED-TTL:PT1H
BEGIN:VTIMEZONE
TZID:Asia/Hong_Kong
BEGIN:STANDARD
TZOFFSETFROM:+0800
TZOFFSETTO:+0800
TZNAME:HKT
DTSTART:20230101T000000
END:STANDARD
END:VTIMEZONE
BEGIN:VEVENT
DTSTART;TZID=Asia/Hong_Kong:20240802T080000
DTEND;TZID=Asia/Hong_Kong:20240804T170000
DTSTAMP:20260420T171427
CREATED:20240725T013551Z
LAST-MODIFIED:20240725T013554Z
UID:36150-1722585600-1722790800@dailyhongkong.com
SUMMARY:홍콩 캣 엑스포 2024
DESCRIPTION:아시아 최대 규모의 고양이 테마 엑스포 “홍콩 캣 엑스포 2024″가 8월2일부터 4일까지 홍콩 컨벤션 및 전시 센터에서 진행된다. \n\n\n\n고양이 애호가들이 쇼핑과 여가를 즐길 수 있는 “홍콩 캣 엑스포 2024″에는 해외 및 현지의 고양이 테마 문화 및 창작 예술가와 제품\, 트렌디한 장난감 및 생활 필수품 등이 전시된다. 이 밖에도 고양이 소유 지식을 향상시키기 위한 강연\, “Gloomie & 12 Chinese Zodiac Friends” 및 “미식가 고양이” 포토존\, CFA 국제 고양이 쇼\, 그리고 다양한 고양이 문화를 홍보하기 위한 고양이 테마 워크샵이 진행된다. \n\n\n\n또한 “홍콩 캣 엑스포 2024” 지정된 부스에서 마스터카드를 사용하여 단일 거래로 HK$250 이상을 소비하면 다양한 경품이 걸린 “스크래치 카드” 복권을 얻을 수 있다. 경품에는 일본\, 한국\, 대만으로의 왕복 항공권과 럭키 캣 번 민트 토이를 포함하여 HK$230\,000 이상의 상품이 제공된다. 주최측은 쇼핑액수가 클수록 당첨 확률이 높아진다고 밝혔다. \n\n\n\n날짜: 2024년 8월 2일~4일시간: 12:00-21:00 (금요일~토요일) | 12:00-20:00 (일요일)장소: 홍콩 컨벤션 및 전시 센터\, 홀 3BCD주소: 홍콩 완차이\, 엑스포 드라이브 1번지티켓 가격: $30 (노인 카드 소지자\, 장애인 및 신장 1미터 이하 어린이 무료 입장) \n\n\n\n한편 올해 2024년 홍콩 고양이 엑스포에는 200개 이상의 전시업체와 410개 부스가 참가할 계획이며 주최측은 3일 동안 150\,000명 이상이 참석할 것으로 예상하고 있다.  \n\n\n\n\n\n香港貓迷博覽會2024 l 貓奴朝聖必到 l 一年一度全港最大型貓主題盛會 l 文創區 l 打卡區 l CFA國際貓展 l 貓奴知識講座 l 刮刮卡大抽獎 l 2024暑假約定大家灣仔會展見🐱🐱🐱
URL:https://dailyhongkong.com/event/hong-kong-cat-expo-2024/
LOCATION:홍콩 컨벤션 센터\, 1 Expo Dr\, Wan Chai\, Hong Kong
CATEGORIES:박람회
ATTACH;FMTTYPE=image/png:https://dailyhongkong.com/wp-content/uploads/2024/07/image-4.png
END:VEVENT
BEGIN:VEVENT
DTSTART;TZID=Asia/Hong_Kong:20240726T100000
DTEND;TZID=Asia/Hong_Kong:20240730T210000
DTSTAMP:20260420T171427
CREATED:20240713T012001Z
LAST-MODIFIED:20240713T012003Z
UID:35860-1721988000-1722373200@dailyhongkong.com
SUMMARY:홍콩 애니 컴 앤 게임즈(Ani-com & Games) 전시회 2024
DESCRIPTION:제25회 애니메이션-코믹스 & 게임즈(Ani-com & Games) 전시회가 오는 7월 26일부터 30일까지 홍콩 컨벤션 센터에서 열린다. \n\n\n\n홍콩 애니메이션-코믹스 & 게임즈(Ani-com & Games) 전시회는 매년 여름방학 기간에 열리는 전시회로 코스프레 이벤트와 컴퓨터 게임 등으로 청소년들에게 유명하다. \n\n\n\n제25회 애니메이션-코믹스 & 게임즈(Ani-com & Games) 전시회의 자세한 내용은 아래의 공식 웹사이트에서 확인할 수 있다.
URL:https://dailyhongkong.com/event/hong-kong-ani-com-games-exhibition-2024/
LOCATION:홍콩 컨벤션 센터\, 1 Expo Dr\, Wan Chai\, Hong Kong
CATEGORIES:전시회
ATTACH;FMTTYPE=image/jpeg:https://dailyhongkong.com/wp-content/uploads/2024/07/acghk2024.jpeg
END:VEVENT
BEGIN:VEVENT
DTSTART;TZID=Asia/Hong_Kong:20240717T100000
DTEND;TZID=Asia/Hong_Kong:20240723T170000
DTSTAMP:20260420T171427
CREATED:20240629T044511Z
LAST-MODIFIED:20240629T044514Z
UID:35500-1721210400-1721754000@dailyhongkong.com
SUMMARY:홍콩 도서 박람회 2024
DESCRIPTION:제34회 홍콩 도서 박람회가 2024년 7월 17일부터 23일까지 홍콩 컨벤션 센터에서 진행된다. 오전 9시부터 오후5시까지 열리는 박람회 마지막 날 23일을 제외하고 매일 오전 10시부터 오후 10시까지 열린다. \n\n\n\n올해의 홍콩 도서 박람회 주제는 영화 및 드라마 대본 등의 티비 문학(“Film and Television Literature”)이다. 대한민국의 김호연 작가 등이 소개되어 주목된다. \n\n\n\n제34회 홍콩 도서 박람회 입장료는 어른의 경우 HK$30이며\, 어린이는 HK$10이다. 정오 이후 입장시에는 단돈 HK$10에 입장할 수 있다. 또한 3세 미만이나 65세 이상 노약자의 경우에는 무료 입장 가능하다.
URL:https://dailyhongkong.com/event/hong-kong-book-fair-2024/
LOCATION:홍콩 컨벤션 센터\, 1 Expo Dr\, Wan Chai\, Hong Kong
CATEGORIES:박람회
ATTACH;FMTTYPE=image/png:https://dailyhongkong.com/wp-content/uploads/2024/06/image-73.png
END:VEVENT
BEGIN:VEVENT
DTSTART;TZID=Asia/Hong_Kong:20240615T200000
DTEND;TZID=Asia/Hong_Kong:20240615T203000
DTSTAMP:20260420T171427
CREATED:20240416T141624Z
LAST-MODIFIED:20240416T141628Z
UID:33937-1718481600-1718483400@dailyhongkong.com
SUMMARY:홍콩 "아버지의 날" 이브 불꽃놀이
DESCRIPTION:6월 3째주 일요일인 “아버지의 날” 바로 전날 15일 토요일 오후 8시부터 빅토리아 하버에서 약 10분 동안 불꽃놀이가 진행된다.
URL:https://dailyhongkong.com/event/hong-kong-fathers-day-eve-fireworks/
CATEGORIES:불꽃놀이
ATTACH;FMTTYPE=image/jpeg:https://dailyhongkong.com/wp-content/uploads/2023/11/fireworks-hong-kong-victoria-harbour.jpeg
END:VEVENT
BEGIN:VEVENT
DTSTART;TZID=Asia/Hong_Kong:20240613T080000
DTEND;TZID=Asia/Hong_Kong:20240616T170000
DTSTAMP:20260420T171427
CREATED:20231121T113952Z
LAST-MODIFIED:20231121T113954Z
UID:30967-1718265600-1718557200@dailyhongkong.com
SUMMARY:홍콩 국제 관광 박람회
DESCRIPTION:홍콩 국제 관광 박람회(International Travel Expo Hong Kong)는 매년 열리는 아시아의 주요 아웃바운드 여행 박람회다.
URL:https://dailyhongkong.com/event/international-travel-expo-hong-kong-2024/
LOCATION:홍콩 컨벤션 센터\, 1 Expo Dr\, Wan Chai\, Hong Kong
CATEGORIES:홍콩컨벤션센터
ATTACH;FMTTYPE=image/jpeg:https://dailyhongkong.com/wp-content/uploads/2023/11/International-Travel-Expo-Hong-Kong-2024.jpg
END:VEVENT
BEGIN:VEVENT
DTSTART;TZID=Asia/Hong_Kong:20240607T120000
DTEND;TZID=Asia/Hong_Kong:20240609T170000
DTSTAMP:20260420T171427
CREATED:20240428T103024Z
LAST-MODIFIED:20240428T103027Z
UID:34211-1717761600-1717952400@dailyhongkong.com
SUMMARY:홍콩 웨딩 페어
DESCRIPTION:홍콩 Wan Chai 지역의 컨벤션 센터에서 열리는 결혼 박람회 \n\n\n\n제114차 홍콩 웨딩 페어
URL:https://dailyhongkong.com/event/hong-kong-wedding-fair-114/
LOCATION:홍콩 컨벤션 센터\, 1 Expo Dr\, Wan Chai\, Hong Kong
CATEGORIES:박람회
ATTACH;FMTTYPE=image/jpeg:https://dailyhongkong.com/wp-content/uploads/2024/04/pexels-photo-1043902.jpeg
END:VEVENT
BEGIN:VEVENT
DTSTART;TZID=Asia/Hong_Kong:20240528T093000
DTEND;TZID=Asia/Hong_Kong:20240530T173000
DTSTAMP:20260420T171427
CREATED:20240529T075123Z
LAST-MODIFIED:20240529T075128Z
UID:34774-1716888600-1717090200@dailyhongkong.com
SUMMARY:비넥스포 아시아(VINEXPO ASIA) 2024 홍콩
DESCRIPTION:아시아 최대 주류 박람회 비넥스포 아시아(VINEXPO ASIA)가 이달 5월 28일부터 30일까지 홍콩 컨벤션센터에서 개최된다. \n\n\n\n비넥스포 아시아(VINEXPO ASIA) 박람회는 지난 1998년 시작된 이래 싱가포르와 홍콩을 매년 번갈아 오가며 열린다. 주류 생산자와 유통업체\, 구매자를 연결하는 글로벌 무역 플랫폼으로 성장하고 있다. \n\n\n\n올해는 프랑스 및 호주\, 중국\, 칠레\, 아르헨티나\, 남아프리카공화국\, 뉴질랜드\, 미국\, 이탈리아\, 스페인\, 포르투갈\, 독일\, 스위스 등 전 세계 1300개사가 참가한다. \n\n\n\n이 가운데 프랑스 기업이 약 40%를 차지하고 있다. \n\n\n\n한편 비넥스포 아시아(VINEXPO ASIA) 박람회는 일반 소비자들은 참여할 수 없는 딜러 전용 박람회이다.  이에 따라 박람회 참가를 위해서는 관련 회사 명함이나 사업자 등록증 등을 제시해야 한다.
URL:https://dailyhongkong.com/event/vinexpo-asia-2024-hong-kong/
LOCATION:홍콩 컨벤션 센터\, 1 Expo Dr\, Wan Chai\, Hong Kong
CATEGORIES:박람회
ATTACH;FMTTYPE=image/jpeg:https://dailyhongkong.com/wp-content/uploads/2024/05/vinexpo-asia-hong-kong.jpg
END:VEVENT
BEGIN:VEVENT
DTSTART;TZID=Asia/Hong_Kong:20240516T093000
DTEND;TZID=Asia/Hong_Kong:20240518T180000
DTSTAMP:20260420T171427
CREATED:20240112T152731Z
LAST-MODIFIED:20240112T152733Z
UID:32073-1715851800-1716055200@dailyhongkong.com
SUMMARY:홍콩 국제 의료 및 헬스케어 박람회
DESCRIPTION:홍콩 국제 의료 및 헬스케어 박람회(Hong Kong International Medical and Healthcare Fair)는 홍콩무역발전국(HKTDC)이 주최하고 홍콩의 의료 및 헬스케어 기기 산업 협회(HKMHDIA)가 공동 주최한다. \n\n\n\n주의: 18세 이하는 출입할 수 없다.
URL:https://dailyhongkong.com/event/hong-kong-international-medical-and-healthcare-fair/
LOCATION:홍콩 컨벤션 센터\, 1 Expo Dr\, Wan Chai\, Hong Kong
CATEGORIES:박람회
ATTACH;FMTTYPE=image/jpeg:https://dailyhongkong.com/wp-content/uploads/2024/01/Hong-Kong-International-Medical-and-Healthcare-Fair.jpg
END:VEVENT
BEGIN:VEVENT
DTSTART;TZID=Asia/Hong_Kong:20240501T200000
DTEND;TZID=Asia/Hong_Kong:20240501T203000
DTSTAMP:20260420T171427
CREATED:20240416T140523Z
LAST-MODIFIED:20240416T140526Z
UID:33934-1714593600-1714595400@dailyhongkong.com
SUMMARY:홍콩 노동절 불꽃놀이
DESCRIPTION:홍콩 법정 공휴일 노동절인 5월 1일 오후8시부터 약 10분간 빅토리아 하버에서 불꽃놀이가 펼쳐질 예정이다.
URL:https://dailyhongkong.com/event/hong-kong-labor-day-fireworks/
CATEGORIES:불꽃놀이
ATTACH;FMTTYPE=image/jpeg:https://dailyhongkong.com/wp-content/uploads/2024/04/East-Tsim-Sha-Tsui-Promenade-firework-displays.jpg
END:VEVENT
BEGIN:VEVENT
DTSTART;TZID=Asia/Hong_Kong:20240427T093000
DTEND;TZID=Asia/Hong_Kong:20240430T170000
DTSTAMP:20260420T171427
CREATED:20240428T075741Z
LAST-MODIFIED:20240428T075744Z
UID:34197-1714210200-1714496400@dailyhongkong.com
SUMMARY:홍콩 기프트 & 프리미엄 페어
DESCRIPTION:홍콩 Wan Chai 지역의 컨벤션 센터에서 27일부터 30일까지 선물로 사용하기 좋은 생활용품이나 잡화를 생산하는 업체들이 자사의 제품을 선보인다. \n\n\n\n보통 바이어들은 업체 부스에 접근하여 영업 사원들에게 인사를 건네며 흥미가 있는 제품에 대하여 가격\, 최소 주문 수량(MOQ\, Minimum Order Quantity)\, 제작 기간 등을 물어보며 운을 뗀다. \n\n\n\n이어 서로 명함을 나누며 지역 음식이나 구경거리 등을 질문하고 후일을 기약하며 다음 업체 부스로 이동하는 식이다.
URL:https://dailyhongkong.com/event/hong-kong-gifts-and-premium-fair/
LOCATION:홍콩 컨벤션 센터\, 1 Expo Dr\, Wan Chai\, Hong Kong
CATEGORIES:박람회
ATTACH;FMTTYPE=image/jpeg:https://dailyhongkong.com/wp-content/uploads/2024/04/pexels-photo-360624.jpeg
END:VEVENT
BEGIN:VEVENT
DTSTART;TZID=Asia/Hong_Kong:20240427T093000
DTEND;TZID=Asia/Hong_Kong:20240429T183000
DTSTAMP:20260420T171427
CREATED:20240424T002204Z
LAST-MODIFIED:20240424T002206Z
UID:34099-1714210200-1714415400@dailyhongkong.com
SUMMARY:홍콩 국제 라이센싱쇼 2024
DESCRIPTION:오는 4월 27일부터 29일까지 홍콩컨벤션센터에서 B2B 라이센싱 엑스포 행사 “홍콩 국제 라이센싱쇼 2024″가 펼쳐진다. \n\n\n\n홍콩 국제 라이센싱쇼에는 캐릭터\, 애니메이션 & 에듀테인먼트\, 디자인 등 라이센스 산업과 관련된 모든 제조업체가 자신의 브랜드들을 선보이며 비지니스 상생을 모색한다. \n\n\n\n홍콩 국제 라이센싱쇼 2024와 동시에 홍콩컨벤션센터에서는 아시안 라이센싱 컨퍼런스 및 홍콩 선물 용품 박람회가 열린다.
URL:https://dailyhongkong.com/event/hong-kong-international-licensing-show/
LOCATION:홍콩 컨벤션 센터\, 1 Expo Dr\, Wan Chai\, Hong Kong
CATEGORIES:박람회
ATTACH;FMTTYPE=image/jpeg:https://dailyhongkong.com/wp-content/uploads/2024/04/hong-kong-international-licensing-show.jpg
END:VEVENT
BEGIN:VEVENT
DTSTART;TZID=Asia/Hong_Kong:20240420T093000
DTEND;TZID=Asia/Hong_Kong:20240423T170000
DTSTAMP:20260420T171427
CREATED:20240416T150405Z
LAST-MODIFIED:20240419T024107Z
UID:33949-1713605400-1713891600@dailyhongkong.com
SUMMARY:홍콩 홈 인스타일(Home InStyle)\, 가정용품 박람회
DESCRIPTION:세계 3대 가정용품 박람회 중 하나로 꼽히는 홈 인스타일(Home InStyle) 박람회가 2024년 4월 20일부터 23일까지 4일간 홍콩 컨벤션 센터에서 개최될 예정이다. \n\n\n\n전시되는 품목은 주방용품\, 가구\, 침구류\, 조화\, 액세서리\, 양초\, 청소도구\, 친환경제품\, 정원용품\, 벽지\, DIY\, 뷰티 및 헬스케어 용품\, 애완용품\, 욕실용품\, 공예품\, 인테리어 퍼니싱\, 유아용품\, 건축자재\, 커피용품\, 홈오피스공간용품을 망라하고 있다. \n\n\n\n홍콩 홈 인스타일(Home InStyle) 박람회에는 17개국 1040개사가 참가하여 자사 제품을 홍보할 예정이다. \n\n\n\n한편 홍콩 홈 인스타일(Home InStyle) 박람회와 동시에 패션의류 박람회인 패션 인스타일(Fashion InStyle) 박람회도 홍콩 컨벤션 센터에서 개최될 예정이다.
URL:https://dailyhongkong.com/event/hong-kong-home-instyle-homeware-fair/
LOCATION:홍콩 컨벤션 센터\, 1 Expo Dr\, Wan Chai\, Hong Kong
CATEGORIES:박람회
ATTACH;FMTTYPE=image/jpeg:https://dailyhongkong.com/wp-content/uploads/2024/04/home-instyle-and-fashion-instyle.jpg
END:VEVENT
BEGIN:VEVENT
DTSTART;TZID=Asia/Hong_Kong:20240420T090000
DTEND;TZID=Asia/Hong_Kong:20240423T170000
DTSTAMP:20260420T171427
CREATED:20240416T153005Z
LAST-MODIFIED:20240419T024030Z
UID:33955-1713603600-1713891600@dailyhongkong.com
SUMMARY:홍콩 패션 인스타일(Fashion InStyle)\, 패션의류 박람회
DESCRIPTION:아시아의 대표적인 패션의류 소싱 박람회로 꼽히는 홍콩 패션 인스타일(Fashion InStyle) 박람회가 오는 2024년 4월 20일부터 23일까지 4일간 홍콩 컨벤션 센터에서 개최될 예정이다. \n\n\n\n홍콩 패션 인스타일(Fashion InStyle) 박람회에는 여성복\, 남성복\, 유아 및 아동복\, 유니폼\, 운동복\, 란제리\, 수영복\, 잠옷\, 핸드백\, 신발\, 악세사리\, 섬유\, 단추 등 이 전시된다. 또한 라벨 제조\, 검사\, 인증 등 의류 생산 관련 서비스 업체 및 패션 잡지사도 박람회에 참여한다. \n\n\n\n홍콩 패션 인스타일(Fashion InStyle) 박람회에는 12개국 1020개사가 참가하여 자사 제품과 패션 의류 관련 서비스 등을 홍보할 예정이다. \n\n\n\n한편 홍콩 패션 인스타일(Fashion InStyle) 박람회와 동시에 가정용품 박람회인 홈 인스타일(Home InStyle)도 홍콩 컨벤션 센터에서 개최될 예정이다.
URL:https://dailyhongkong.com/event/hong-kong-fashion-instyle-fashion-clothing-fair/
LOCATION:홍콩 컨벤션 센터\, 1 Expo Dr\, Wan Chai\, Hong Kong
CATEGORIES:박람회
ATTACH;FMTTYPE=image/jpeg:https://dailyhongkong.com/wp-content/uploads/2024/04/home-instyle-and-fashion-instyle.jpg
END:VEVENT
BEGIN:VEVENT
DTSTART;TZID=Asia/Hong_Kong:20240413T093000
DTEND;TZID=Asia/Hong_Kong:20240416T183000
DTSTAMP:20260420T171427
CREATED:20240112T145742Z
LAST-MODIFIED:20240112T145745Z
UID:32046-1713000600-1713292200@dailyhongkong.com
SUMMARY:홍콩 전자 박람회 (춘계)
DESCRIPTION:홍콩 전자 박람회(Hong Kong Electronics Fair)는 홍콩무역발전국(Hong Kong Trade Development Council-HKTDC)에서 주최하는 아시아 최대 규모의 IT 전문 박람회이다. 지난 2004년부터 시작되어 해마다 두 차례(춘계:4월\, 추계:10월) 열리고 있다.
URL:https://dailyhongkong.com/event/hong-kong-electronics-fair-spring-edition/
LOCATION:홍콩 컨벤션 센터\, 1 Expo Dr\, Wan Chai\, Hong Kong
CATEGORIES:박람회
ATTACH;FMTTYPE=image/jpeg:https://dailyhongkong.com/wp-content/uploads/2024/01/Hong-Kong-Electronics-Fair.jpg
END:VEVENT
BEGIN:VEVENT
DTSTART;TZID=Asia/Hong_Kong:20240408T090000
DTEND;TZID=Asia/Hong_Kong:20240410T170000
DTSTAMP:20260420T171427
CREATED:20240403T020839Z
LAST-MODIFIED:20240403T020842Z
UID:33685-1712566800-1712768400@dailyhongkong.com
SUMMARY:HSBC Global Investment Summit
DESCRIPTION:The inaugural HSBC Global Investment Summit will take place on the 8 to 10 April 2024 in Hong Kong\, bringing together over 2\,000 delegates to discuss the global trends and topics shaping our world. HSBC’s Global Investment Summit will help you understand our evolving global economic situation. \n\n\n\nAt a time of profound change and often competing priorities\, the HSBC Global Investment Summit will allow for an open and frank exchange of thoughts and ideas between world-class experts\, political leaders\, institutional investors and top decision-makers. Our speakers will offer their unique insights\, perspectives and knowledge on a wide range of critical topics affecting the global economy. \n\n\n\nHeld in the days immediately after the HSBC Hong Kong Rugby Sevens\, this event will welcome visitors from all over the world to a truly exceptional global occasion.
URL:https://dailyhongkong.com/event/hsbc-global-investment-summit/
CATEGORIES:컨퍼런스
ATTACH;FMTTYPE=image/png:https://dailyhongkong.com/wp-content/uploads/2024/04/hsbc-global-investment-summit.png
END:VEVENT
BEGIN:VEVENT
DTSTART;TZID=Asia/Hong_Kong:20240406T093000
DTEND;TZID=Asia/Hong_Kong:20240409T183000
DTSTAMP:20260420T171427
CREATED:20240112T151433Z
LAST-MODIFIED:20240112T151436Z
UID:32061-1712395800-1712687400@dailyhongkong.com
SUMMARY:홍콩 국제 조명 박람회 (춘계)
DESCRIPTION:홍콩 국제 조명 박람회(Hong Kong International Lighting Fair)는 독일의 Light+ Building\, 미국의 LF와 더불어 세계 3대 조명 박람회로 손꼽히는 조명 박람회로 해마다 두 차례(춘계:4월\, 추계:10월) 열리고 있다. \n\n\n\n주거 조명\, 상업 조명\, LED 조명\, 장식용 조명 \, 인테리어 조명\, 무대조명\, 광고 조명\, 샹들리에 조명\, 스마트 조명 및 시스템\, 조명 장비\, 부품 및 소재 등을 전시한다.
URL:https://dailyhongkong.com/event/hong-kong-international-lighting-fair-spring-edition/
LOCATION:홍콩 컨벤션 센터\, 1 Expo Dr\, Wan Chai\, Hong Kong
CATEGORIES:박람회
ATTACH;FMTTYPE=image/jpeg:https://dailyhongkong.com/wp-content/uploads/2024/01/Hong-Kong-International-Lighting-Fair-Spring-Edition.jpg
END:VEVENT
BEGIN:VEVENT
DTSTART;TZID=Asia/Hong_Kong:20240405T080000
DTEND;TZID=Asia/Hong_Kong:20240407T170000
DTSTAMP:20260420T171427
CREATED:20231217T012053Z
LAST-MODIFIED:20231217T012056Z
UID:31538-1712304000-1712509200@dailyhongkong.com
SUMMARY:홍콩 세븐스 2024
DESCRIPTION:홍콩 세븐스 (Hong Kong Sevens\, 중국어: 香港國際七人欖球賽) \n\n\n\n국제 럭비 평의회에서 주관하는 IRB 세븐스 월드 시리즈의 7인제 럭비 대회이다.
URL:https://dailyhongkong.com/event/hong-kong-sevens-2024/
CATEGORIES:스포츠
ATTACH;FMTTYPE=image/jpeg:https://dailyhongkong.com/wp-content/uploads/2023/12/HK7s-2024_BG2.jpg
END:VEVENT
BEGIN:VEVENT
DTSTART;TZID=Asia/Hong_Kong:20240330T100000
DTEND;TZID=Asia/Hong_Kong:20240331T210000
DTSTAMP:20260420T171427
CREATED:20240316T142657Z
LAST-MODIFIED:20240316T142700Z
UID:33399-1711792800-1711918800@dailyhongkong.com
SUMMARY:KCON HONG KONG 2024
DESCRIPTION:CJ ENM이 2012년부터 주최해온 K-POP 콘서트 KCON 이 중화권에서도 열린다. CJ ENM은 2024년 3월 30일과 31일 양일간 홍콩의 아시아월드엑스포 공연장에서 KCON 행사가 열린다고 발표하였다. \n\n\n\n출처: KCON Expands to Worldwide Mega K-POP Festival for 2024\, Filled With Newness and New Regions
URL:https://dailyhongkong.com/event/kcon-hong-kong-2024/
CATEGORIES:공연
ATTACH;FMTTYPE=image/jpeg:https://dailyhongkong.com/wp-content/uploads/2024/03/kcon-hong-kong-2024.jpg
END:VEVENT
BEGIN:VEVENT
DTSTART;TZID=Asia/Hong_Kong:20240328T080000
DTEND;TZID=Asia/Hong_Kong:20240408T170000
DTSTAMP:20260420T171427
CREATED:20240113T150701Z
LAST-MODIFIED:20240113T150704Z
UID:32138-1711612800-1712595600@dailyhongkong.com
SUMMARY:홍콩 국제 영화제(香港國際電影節)
DESCRIPTION:홍콩 국제 영화제(Hong Kong International Film Festival\, 중국어: 香港國際電影節)는 1977년 이래 홍콩에서 열리는 국제영화제이다. \n\n\n\n올해 2024년 제48회 홍콩 국제 영화제는 3월 28일부터 4월 8일까지 진행된다.
URL:https://dailyhongkong.com/event/hong-kong-international-film-festival-hkiff/
CATEGORIES:영화제
ATTACH;FMTTYPE=image/jpeg:https://dailyhongkong.com/wp-content/uploads/2024/01/Hong-Kong-International-Film-Festival.jpg
END:VEVENT
BEGIN:VEVENT
DTSTART;TZID=Asia/Hong_Kong:20240328T080000
DTEND;TZID=Asia/Hong_Kong:20240331T170000
DTSTAMP:20260420T171427
CREATED:20240213T082404Z
LAST-MODIFIED:20240213T082406Z
UID:32791-1711612800-1711904400@dailyhongkong.com
SUMMARY:아트 센트럴 2024
DESCRIPTION:Art Central\, a cornerstone event of Hong Kong Art Week\, showcases the next generation of talent from Asia’s most innovative galleries alongside distinguished artists from around the world. \n\n\n\nPresented in partnership with United Overseas Bank (UOB)\, Art Central will return to its home on Hong Kong’s iconic Central Harbourfront in 2024\, with a Preview on Wednesday\, 27 March and run through Sunday\, 31 March. The upcoming edition will be staged in an architect-designed\, purpose- built structure overlooking Victoria Harbour\, conveniently situated in the heart of the city’s business district within walking distance of Art Basel at the Hong Kong Convention and Exhibition Centre and a short ferry ride to M+ and Palace Museum Hong Kong. \n\n\n\nArt Central has established itself as an international platform for pushing boundaries in contemporary art and experimentation\, and is recognised as a place of discovery for seasoned collectors and new buyers alike. The Fair provides a platform for museum quality artworks from more established names to be exhibited alongside cutting-edge works by emerging artists across different mediums. With a unique identity in the Hong Kong visual arts landscape\, Art Central delivers the best in today’s global contemporary art practice to thousands of VIPs\, collectors\, curators\, critics and art lovers who visit the Fair during Hong Kong Art Week – the biggest art week within the Asia Pacific region.
URL:https://dailyhongkong.com/event/art-central-2024/
LOCATION:Central Harbourfront Event Space\, 9 Lung Wo Road\, Central\, 999997\, Hong Kong
CATEGORIES:전시회
ATTACH;FMTTYPE=image/jpeg:https://dailyhongkong.com/wp-content/uploads/2024/02/art-central.jpg
END:VEVENT
BEGIN:VEVENT
DTSTART;TZID=Asia/Hong_Kong:20240328T080000
DTEND;TZID=Asia/Hong_Kong:20240330T170000
DTSTAMP:20260420T171427
CREATED:20231121T151214Z
LAST-MODIFIED:20231121T151216Z
UID:31002-1711612800-1711818000@dailyhongkong.com
SUMMARY:아트 바젤 홍콩 2024
DESCRIPTION:Our Hong Kong fair features premier galleries from Asia and beyond. It provides an in-depth overview of Asia-Pacific’s astonishing diversity\, as well as global artistic perspectives through Modern and contemporary works.
URL:https://dailyhongkong.com/event/art-basel-hong-kong-2024/
LOCATION:홍콩 컨벤션 센터\, 1 Expo Dr\, Wan Chai\, Hong Kong
CATEGORIES:전시회
ATTACH;FMTTYPE=image/jpeg:https://dailyhongkong.com/wp-content/uploads/2023/11/Doug-Aitken-Endless-Oceans-art-basel.jpg
END:VEVENT
BEGIN:VEVENT
DTSTART;TZID=Asia/Hong_Kong:20240325T183000
DTEND;TZID=Asia/Hong_Kong:20240602T230000
DTSTAMP:20260420T171427
CREATED:20240327T031333Z
LAST-MODIFIED:20240327T031336Z
UID:33571-1711391400-1717369200@dailyhongkong.com
SUMMARY:아트@하버 2024
DESCRIPTION:See Victoria Harbour Like Never Before: “Art@Harbour 2024” Unveils Mesmerizing Art Installation\n\n\n\nHong Kong’s iconic harbourfront is currently home to a breathtaking large-scale art project that promises to redefine the way visitors experience the city. “Art@Harbour 2024\,” running from March 25 to June 2\, is captivating audiences with its innovative blend of inspiration and sensory delight. \n\n\n\nAmong the five projects gracing both sides of Victoria Harbour\, “teamLab: Continuous” stands out. This mesmerizing installation features hundreds of colorful luminous ovoids positioned on both land and sea. As day turns into night\, these glowing orbs create a kaleidoscope of colors accompanied by soothing soundscapes—an unforgettable experience for all who encounter it. Don’t forget to have your camera ready for that perfect shot! \n\n\n\nThe Hong Kong waterfront\, a beloved public space\, seamlessly combines the vibrancy of the cityscape with the tranquil beauty of Victoria Harbour. To celebrate this multifaceted nature and encourage creative collaboration\, the Art Promotion Office\, under the Leisure and Cultural Services Department\, has invited the renowned international art collective\, teamLab\, to transform Tamar Park\, Central and Western District Promenade (Central Section)\, and Victoria Harbour into captivating realms of artistic wonder. Whether you’re a local or a tourist\, this outdoor exhibition promises to leave an indelible mark on your senses and imagination.
URL:https://dailyhongkong.com/event/art-at-harbour-2024/
CATEGORIES:전시회
ATTACH;FMTTYPE=image/jpeg:https://dailyhongkong.com/wp-content/uploads/2024/03/art-at-harbour-2024.jpg
END:VEVENT
BEGIN:VEVENT
DTSTART;TZID=Asia/Hong_Kong:20240323T100000
DTEND;TZID=Asia/Hong_Kong:20240324T130000
DTSTAMP:20260420T171427
CREATED:20240301T113200Z
LAST-MODIFIED:20240301T113203Z
UID:33143-1711188000-1711285200@dailyhongkong.com
SUMMARY:2024 세계 트라이애슬론 컵 홍콩
DESCRIPTION:국제트라이애슬론연맹이 주최하는 철인삼종경기(鐵人三種競技) 2024 World Triathlon Cup Hong Kong과 2024 Asia Triathlon Cup Hong Kong 이 3월 23일부터 24일까지 양일간 진행된다. \n\n\n\n철인삼종경기(鐵人三種競技)는 수영과 사이클\, 달리기로 이루어지는 스포츠 경기로 이 세 가지 종목을 완주하는 시간을 경쟁하여 우승자를 가린다. \n\n\n\n국제트라이애슬론연맹의 2024 Asia Triathlon Cup Hong Kong 대회는 단거리 경주인 Super Sprint Distance 경기로 375m 수영\, 10km 사이클\, 2.5km 달리기로 코스가 짜여져 있다. \n\n\n\n다음날 24일 치뤄지는 2024 World Triathlon Cup Hong Kong 대회는 바다에서 750m 수영\, 평탄한 도로에서 20km 사이클과 5km 달리기로 경기가 진행된다.
URL:https://dailyhongkong.com/event/2024-world-triathlon-cup-hong-kong/
CATEGORIES:스포츠
ATTACH;FMTTYPE=image/jpeg:https://dailyhongkong.com/wp-content/uploads/2024/03/hong-kong-triathlon-association.jpg
END:VEVENT
BEGIN:VEVENT
DTSTART;TZID=Asia/Hong_Kong:20240315T090000
DTEND;TZID=Asia/Hong_Kong:20240324T210000
DTSTAMP:20260420T171427
CREATED:20240227T133038Z
LAST-MODIFIED:20240227T133041Z
UID:33092-1710493200-1711314000@dailyhongkong.com
SUMMARY:홍콩 플라워 쇼 2024
DESCRIPTION:홍콩 섬 Causeway Bay 지역 빅토리아 공원에서 3월 15일부터 24일까지 매일 오전 9시부터 오후 9시까지 “Floral Joy Around Town” 테마로 플라워 쇼가 펼쳐진다. \n\n\n\n올해 홍콩 플라워 쇼 2024에서는 천사의 꽃이라도 불리는 안젤로니아(Angelonia) 꽃이 집중적으로 전시된다. \n\n\n\n홍콩 플라워 쇼 2024의 입장료는 HK$14 이며 4살부터 14살 어린아이와 60살 이상 노약자 및 장애우\, 학생은 절반 가격인 HK$7 에 입장할 수 있다. 30명 이상 단체도 절반 가격에 입장할 수 있다.
URL:https://dailyhongkong.com/event/hong-kong-flower-show-2024/
LOCATION:Victoria Park\, 1 Hing Fat St\, Causeway Bay\, Hong Kong\, Hong Kong
CATEGORIES:박람회
ATTACH;FMTTYPE=image/jpeg:https://dailyhongkong.com/wp-content/uploads/2024/02/pexels-photo-5773785.jpeg
END:VEVENT
BEGIN:VEVENT
DTSTART;TZID=Asia/Hong_Kong:20240315T080000
DTEND;TZID=Asia/Hong_Kong:20240317T170000
DTSTAMP:20260420T171427
CREATED:20240301T123740Z
LAST-MODIFIED:20240301T123743Z
UID:33151-1710489600-1710694800@dailyhongkong.com
SUMMARY:2024 Tissot UCI Track Nations Cup
DESCRIPTION:스위스의 시계 브랜드 티쏘(TISSOT)가 후원하는 국제 사이클링 경기 UCI Track Nations Cup이 홍콩에서 3월 15일부터 17일까지 열린다. (UCI: Union Cycliste Internationale)
URL:https://dailyhongkong.com/event/2024-tissot-uci-track-nations-cup/
CATEGORIES:스포츠
ATTACH;FMTTYPE=image/jpeg:https://dailyhongkong.com/wp-content/uploads/2024/03/2024-TISSOT-UCI-TRACK-NATIONS-CUP.jpg
END:VEVENT
BEGIN:VEVENT
DTSTART;TZID=Asia/Hong_Kong:20240310T080000
DTEND;TZID=Asia/Hong_Kong:20240310T170000
DTSTAMP:20260420T171427
CREATED:20240113T145646Z
LAST-MODIFIED:20240113T145649Z
UID:32126-1710057600-1710090000@dailyhongkong.com
SUMMARY:아시안 필름 어워즈(Asian Film Awards\, 亞洲電影大獎)
DESCRIPTION:아시안 필름 어워즈(Asian Film Awards\, 亞洲電影大獎)는 아시아 영화와 영화인을 홍보하고 알리기 위해 2007년 시작된 영화 시상식이다. 2007년 3월 20일 제1회 시상식에서는 2006년 하반기에 개봉한 대한민국 봉준호 감독의 영화《괴물》(怪物) 이 작품상 등을 수상하였다. \n\n\n\n올해로 17회를 맞는 아시안 필름 어워즈에서는 16개 부문에 걸쳐 35편의 후보작품이 공개되었다. \n\n\n\n한국 영화계에서는 6개 부문에 노미네이트 되어 최다 부문 후보작이 된 《서울의 봄》을 포함하여 6편이 후보로 등록되었다. \n\n\n\n한편 올해 2024년 제17회 아시안 필름 어워즈의 심사위원장에는 각본가\, 평론가\, 소설가 등 다양한 분야에서 활동을 이어오고 있는 일본의 거장 영화감독 구로사와 기요시가 위촉되었다.
URL:https://dailyhongkong.com/event/asian-film-awards/
LOCATION:Xiqu Centre\, 88 Austin Road West\, Tsim Sha Tsui\, Kowloon\, 999077\, Hong Kong
CATEGORIES:영화제
ATTACH;FMTTYPE=image/jpeg:https://dailyhongkong.com/wp-content/uploads/2024/01/asian-film-awards.jpg
END:VEVENT
BEGIN:VEVENT
DTSTART;TZID=Asia/Hong_Kong:20240308T080000
DTEND;TZID=Asia/Hong_Kong:20240310T170000
DTSTAMP:20260420T171427
CREATED:20231125T085618Z
LAST-MODIFIED:20231125T085620Z
UID:31143-1709884800-1710090000@dailyhongkong.com
SUMMARY:리브 골프 2024
DESCRIPTION:사우디 아라비아 국부 펀드가 후원하는 프로 골프 리그 경기
URL:https://dailyhongkong.com/event/liv-golf-2024/
CATEGORIES:스포츠
ATTACH;FMTTYPE=image/jpeg:https://dailyhongkong.com/wp-content/uploads/2023/11/LIV-golf.jpg
END:VEVENT
BEGIN:VEVENT
DTSTART;TZID=Asia/Hong_Kong:20240229T080000
DTEND;TZID=Asia/Hong_Kong:20240304T170000
DTSTAMP:20260420T171427
CREATED:20231125T082500Z
LAST-MODIFIED:20231125T082502Z
UID:31139-1709193600-1709571600@dailyhongkong.com
SUMMARY:HKTDC 홍콩 인터내셔널 쥬얼리 쇼
DESCRIPTION:홍콩무역발전국(HKTDC)이 주최하는 인터내셔널 주얼리 쇼.
URL:https://dailyhongkong.com/event/hktdc-hong-kong-international-jewellery-show/
LOCATION:홍콩 컨벤션 센터\, 1 Expo Dr\, Wan Chai\, Hong Kong
CATEGORIES:박람회,홍콩컨벤션센터
ATTACH;FMTTYPE=image/jpeg:https://dailyhongkong.com/wp-content/uploads/2023/11/hktdc-international-jewelry-show.jpg
END:VEVENT
BEGIN:VEVENT
DTSTART;TZID=Asia/Hong_Kong:20240211T200000
DTEND;TZID=Asia/Hong_Kong:20240211T203000
DTSTAMP:20260420T171427
CREATED:20231122T094823Z
LAST-MODIFIED:20231122T094825Z
UID:31075-1707681600-1707683400@dailyhongkong.com
SUMMARY:홍콩 구정 설날 불꽃놀이 2024
DESCRIPTION:빅토리아 하버에서 펼쳐지는 불꽃놀이 (Details to be updated)
URL:https://dailyhongkong.com/event/lunar-new-year-fireworks-display-2024/
CATEGORIES:불꽃놀이
ATTACH;FMTTYPE=image/jpeg:https://dailyhongkong.com/wp-content/uploads/2023/11/pexels-photo-2526105.jpeg
END:VEVENT
BEGIN:VEVENT
DTSTART;TZID=Asia/Hong_Kong:20240210T200000
DTEND;TZID=Asia/Hong_Kong:20240210T214500
DTSTAMP:20260420T171427
CREATED:20240113T021629Z
LAST-MODIFIED:20240113T021632Z
UID:32088-1707595200-1707601500@dailyhongkong.com
SUMMARY:홍콩 캐세이 국제 구정 퍼레이드
DESCRIPTION:홍콩 구정 국제 퍼레이드는 매년 음력 설에 세계 각지의 다양한 퍼포먼스가 Tsim Sha Tsui 지역에서 화려하게 펼쳐지는 축제 행사이다. \n\n\n\n음력 설 첫날(양력 2월 10일) 저녁 8시 Tsim Sha Tsui 지역 홍콩문화중심(香港文化中心) 건물 앞에서 시작하는 퍼레이드는 올해 2024년에는 “월드 파티 대축제” 라는 컨셉트로  진행된다. \n\n\n\n홍콩 구정 국제 퍼레이드 코스\n\n\n\n홍콩 캐세이 국제 중국 설 야간 퍼레이드(Cathay International Chinese New Year Night Parade)는 캐세이 그룹이 주 스폰서이며 오션파크\, 디즈니랜드\, 콘래드 홍콩 등 현지 대기업이 후원한다. \n\n\n\n또한 퍼레이드가 끝난 후 전시물은 다음 날 오전 10시부터 25일 저녁10시까지 Tsim Sha Tsui 지역 The Urban Council Centenary Garden 에 전시될 예정이다.
URL:https://dailyhongkong.com/event/cathay-international-chinese-new-year-night-parade/
CATEGORIES:페스티벌
ATTACH;FMTTYPE=image/jpeg:https://dailyhongkong.com/wp-content/uploads/2024/01/Cathay-International-Chinese-New-Year-Night-Parade.jpg
END:VEVENT
END:VCALENDAR